BEGIN:VCALENDAR
VERSION:2.0
PRODID:spatie/icalendar-generator
DESCRIPTION:Veranstaltungen von STC-Nautilus Neustadt e.V.
X-WR-CALDESC:Veranstaltungen von STC-Nautilus Neustadt e.V.
REFRESH-INTERVAL;VALUE=DURATION:PT1440M
X-PUBLISHED-TTL:PT1440M
BEGIN:VTIMEZONE
TZID:Europe/Berlin
BEGIN:STANDARD
DTSTART:20291028T030000Z
TZOFFSETFROM:+0200
TZOFFSETTO:+0100
END:STANDARD
BEGIN:DAYLIGHT
DTSTART:20300331T020000Z
TZOFFSETFROM:+0100
TZOFFSETTO:+0200
END:DAYLIGHT
BEGIN:STANDARD
DTSTART:20301027T030000Z
TZOFFSETFROM:+0200
TZOFFSETTO:+0100
END:STANDARD
END:VTIMEZONE
BEGIN:VTIMEZONE
TZID:UTC
BEGIN:STANDARD
DTSTART:20250724T111044Z
TZOFFSETFROM:+0000
TZOFFSETTO:+0000
END:STANDARD
END:VTIMEZONE
BEGIN:VEVENT
UID:57-8
DTSTAMP:20260420T111044Z
SUMMARY:Tauchsaison startet im Binsfeld Nord
LOCATION:Binsfeld Nord Gänsedrecksee  Otterstadt Rheinland Pfalz 67166
ORGANIZER;CN=Uwe:MAILTO:webmaster@stc-nautilus.de
RRULE:FREQ=YEARLY;BYMONTH=06;BYDAY=01;UNTIL=20330601T000000Z
DTSTART;TZID=Europe/Berlin:20300601T080000
DTEND;TZID=Europe/Berlin:20300601T090000
X-ALT-DESC;FMTTYPE=TEXT/HTML:Die Tauchsaison im Gänsedrecksee / Binsfeld N
 ord geht von 01.06. bis 14.10. Anmeldung über http://www.binsfeld.xl-netw
 ork.de/
CATEGORIES:Tauchsaison
URL;VALUE=URI:https://www.stc-nautilus.de/mc-events/tauchsaison-startet-im-
 binsfeld-nord/?mc_id=57
METHOD:PUBLISH
END:VEVENT
END:VCALENDAR